BEGIN:VCALENDAR
VERSION:2.0
PRODID:-//wp-events-plugin.com//7.2.3.1//EN
BEGIN:VEVENT
UID:12@geniusantwerp.be
DTSTART;TZID=Europe/Brussels:20260306T090000
DTEND;TZID=Europe/Brussels:20260306T120000
DTSTAMP:20260226T092441Z
URL:https://www.geniusantwerp.be/events/ontdek-de-toekomst-van-haven-trans
 port-en-logistiek/
SUMMARY:Ontdek de toekomst van haven\, transport en logistiek
DESCRIPTION:\n\n\n\n\n\nOp 6 maart brengt Genius het hoger onderwijs en het
  werkveld samen tijdens een inspirerende voormiddag rond digitale transfor
 matie in de haven-\, transport- en logistieke sector. Onderzoekers\, bedri
 jven en Alfaport Voka delen hun inzichten over innovatie\, digitalisering 
 en de uitdagingen die de sector vandaag én morgen vormgeven.\nStudenten k
 rijgen een unieke inkijk in hoe onderzoek en bedrijfspraktijk elkaar verst
 erken\, welke technologische evoluties op de werkvloer op til staan en wel
 ke vaardigheden in de nabije toekomst cruciaal worden. Via praktijkvoorbee
 lden en getuigenissen uit het bedrijfsleven wordt duidelijk hoe innovatie 
 vandaag al wordt toegepast en wat dit betekent voor toekomstige profession
 als.\nEen niet te missen kans om de brug te slaan tussen studie en carriè
 re\, en vooruit te kijken naar de jobs van morgen.\n\nProgramma Studiedag:
  Digitalisering in het Belgische haven-\, transport- en logistieke ecosyst
 eem\n09.00 – 10.30 | Blok 1 – Visie en debat: de (digitale) haven van 
 de toekomst\nKeynote – Prof. dr. Valentin Carlan (Universiteit Antwerpen
 )\nProfessor Carlan schetst hoe de haven zich vandaag ontwikkelt en welke 
 strategische richting zij uitgaat. Hij belicht de rol van innovatie\, digi
 talisering en samenwerking in het versterken van de concurrentiekracht en 
 duurzaamheid van de haven.\nDaarnaast gaat hij in op het talentvraagstuk: 
 welke competenties\, profielen en samenwerkingsvaardigheden zijn nodig om 
 de haven van de toekomst vorm te geven?\nPanelgesprek – De toekomst van 
 de maritieme en logistieke sector\nPanelleden:\n\n 	Wouter Bassier (MSC)\n
  	Olivier Schoenmaeckers (Forward Belgium)\n 	John Kerkhof (Stream Softwar
 e)\n 	Filip Buggenhout (DP World Antwerp Gateway)\n 	Prof. dr. Valentin Ca
 rlan (Universiteit Antwerpen)\n\nDit panelgesprek focust op drie centrale 
 thema’s:\n\n 	Talentwerving en employer branding\n 	Digitalisering en au
 tomatisering in de logistieke keten\n 	Samenwerking als sleutel tot intern
 ationale competitiviteit\n\n10.30 – 10.45 | Pauze\n10.45 – 12.00 | Blo
 k 2 – Digitale praktijkcases uit het ecosysteem\nEric Verlinden – Proj
 ectmanager\, The Way Forward\nInbound Release Platform (IRP)\nAls bruggenb
 ouwer tussen overheid en private sector licht Eric Verlinden toe hoe het I
 nbound Release Platform (IRP) de communicatie tussen ketenpartners en de B
 elgische douane digitaliseert.\nKurt Van Loon – Product Manager\, Port o
 f Antwerp-Bruges\nCPu\nHij bespreekt de digitale sleutel die de Antwerpse 
 haven beveiligt door fraudegevoelige pincodes te bannen. Containers worden
  veilig en snel vrijgegeven op basis van identiteit\, terwijl bevoegde aut
 oriteiten volledige controle behouden over het proces.\nPauline Van Ostaye
 n – Cofounder\, Dockflow\nDockflow\nDockflow ontwikkelde een Logistics E
 nablement Platform dat versnipperde containerdata centraliseert in een gea
 utomatiseerd dashboard. Het platform biedt real-time zichtbaarheid en dete
 cteert proactief vertragingen en kosten\, waardoor bedrijven sneller en da
 tagedreven kunnen handelen.\n\n\n\n\n\n\n
ATTACH;FMTTYPE=image/jpeg:https://www.geniusantwerp.be/wp-content/uploads/
 2026/01/16-jan-2026-12_00_57.png
END:VEVENT
BEGIN:VTIMEZONE
TZID:Europe/Brussels
X-LIC-LOCATION:Europe/Brussels
BEGIN:STANDARD
DTSTART:20251026T020000
TZOFFSETFROM:+0200
TZOFFSETTO:+0100
TZNAME:CET
END:STANDARD
END:VTIMEZONE
END:VCALENDAR