BEGIN:VCALENDAR
VERSION:2.0
PRODID:-//wp-events-plugin.com//7.2.3.1//EN
BEGIN:VEVENT
UID:11@geniusantwerp.be
DTSTART;TZID=Europe/Brussels;VALUE=DATE:20260304
DTEND;TZID=Europe/Brussels;VALUE=DATE:20260305
DTSTAMP:20250919T123043Z
URL:https://www.geniusantwerp.be/events/moving-forward-de-volgende-stap-na
 -het-afstuderen/
SUMMARY:Moving Forward - De volgende stap na het afstuderen!
DESCRIPTION:Elk jaar studeren er meer dan 11.000 studenten af in Antwerpen 
 — een geweldige prestatie. Gefeliciteerd! \nMaar wat is de volgende stap
 ?\nGenius_Antwerp en Moving Forward slaan opnieuw de handen in elkaar voor
  een uniek event. Geen klassieke jobbeurs met vluchtige gesprekken\, maar 
 een inspirerende ervaring die wél het verschil maakt.\nGenius organiseert
  tijdens het event tal van interactieve activiteiten en ontmoetingen.\nMee
 r info &amp\; inschrijven: www.movingforward.be\n[embed]https://youtu.be/M
 dRcp-n7hwI[/embed]
LOCATION:Antwerp Expo\, Jan van Rijswijcklaan 191\, Antwerpen\, 2020 \, Bel
 gië
X-APPLE-STRUCTURED-LOCATION;VALUE=URI;X-ADDRESS=Jan van Rijswijcklaan 191\,
  Antwerpen\, 2020 \, België;X-APPLE-RADIUS=100;X-TITLE=Antwerp Expo:geo:0
 ,0
END:VEVENT
BEGIN:VTIMEZONE
TZID:Europe/Brussels
X-LIC-LOCATION:Europe/Brussels
BEGIN:STANDARD
DTSTART:20251026T020000
TZOFFSETFROM:+0200
TZOFFSETTO:+0100
TZNAME:CET
END:STANDARD
END:VTIMEZONE
END:VCALENDAR